BEGIN:VCALENDAR
VERSION:2.0
PRODID:-//Plone.org//NONSGML plone.app.event//EN
X-WR-TIMEZONE:Europe/Helsinki
BEGIN:VEVENT
SUMMARY:Äidinkielen ja kirjallisuuden opetuksen foorumi 2023 - 1.-2.8.
DTSTART;TZID=Europe/Helsinki;VALUE=DATE-TIME:20230801T083000
DTEND;TZID=Europe/Helsinki;VALUE=DATE-TIME:20230802T180000
DTSTAMP;VALUE=DATE-TIME:20260425T171229Z
UID:40b70c9af4fa48079a4e75215f408fd0
CREATED;VALUE=DATE-TIME:20230629T145124Z
DESCRIPTION:Tapahtuma on suunnattu perusopetuksen luokanopettajille sekä 
 äidinkielen ja kirjallisuuden aineenopettajille\, lukion äidinkielen ja 
 kirjallisuuden opettajille\, ammatillisen koulutuksen äidinkielen ja vies
 tinnän opettajille\, suomi toisena kielenä ja kirjallisuus -opettajille\
 , erityisopettajille\, opettajankouluttajille\, äidinkielen ja kirjallisu
 uden opetuksen tutkijoille ja muille aiheesta kiinnostuneille.
LAST-MODIFIED;VALUE=DATE-TIME:20250618T074426Z
URL:https://www.kieliverkosto.fi/fi/kuulumisia-kentalta/tapahtumat/aidinki
 elen-ja-kirjallisuuden-opetuksen-foorumi-2023
END:VEVENT
BEGIN:VTIMEZONE
TZID:Europe/Helsinki
X-LIC-LOCATION:Europe/Helsinki
BEGIN:DAYLIGHT
DTSTART;VALUE=DATE-TIME:20230326T040000
TZNAME:EEST
TZOFFSETFROM:+0200
TZOFFSETTO:+0300
END:DAYLIGHT
END:VTIMEZONE
END:VCALENDAR
