BEGIN:VCALENDAR
VERSION:2.0
PRODID:-//Plone.org//NONSGML plone.app.event//EN
X-WR-TIMEZONE:Europe/Helsinki
BEGIN:VEVENT
SUMMARY:Euroopan kielten päivä 25 vuotta: juhlaseminaari kieltenopetukse
 n ammattilaisille
DTSTART;TZID=Europe/Helsinki;VALUE=DATE-TIME:20250926T123000
DTEND;TZID=Europe/Helsinki;VALUE=DATE-TIME:20250926T151000
DTSTAMP;VALUE=DATE-TIME:20260424T021602Z
UID:85a98b16bbe04bce9d6ea12cd7e24060
CONTACT:Anu Halvari\, anu.halvari@oph.fi\, https://tapahtumat.oph.fi/euroo
 pankieltenpaiva25
CREATED;VALUE=DATE-TIME:20250827T105455Z
LAST-MODIFIED;VALUE=DATE-TIME:20250827T105522Z
LOCATION:Suomalais-venäläinen koulu (SVK)
URL:https://www.kieliverkosto.fi/fi/kuulumisia-kentalta/tapahtumat/euroopa
 n-kielten-paiva-25-vuotta-juhlaseminaari-kieltenopetuksen-ammattilaisille
END:VEVENT
BEGIN:VTIMEZONE
TZID:Europe/Helsinki
X-LIC-LOCATION:Europe/Helsinki
BEGIN:DAYLIGHT
DTSTART;VALUE=DATE-TIME:20250330T040000
TZNAME:EEST
TZOFFSETFROM:+0200
TZOFFSETTO:+0300
END:DAYLIGHT
END:VTIMEZONE
END:VCALENDAR
