BEGIN:VCALENDAR
VERSION:2.0
PRODID:-//Plone.org//NONSGML plone.app.event//EN
X-WR-TIMEZONE:Europe/Helsinki
BEGIN:VEVENT
SUMMARY:Karvin Arviointifoorumi 25.5.2018
DTSTART;TZID=Europe/Helsinki;VALUE=DATE-TIME:20180525T090000
DTEND;TZID=Europe/Helsinki;VALUE=DATE-TIME:20180525T160000
DTSTAMP;VALUE=DATE-TIME:20260422T032929Z
UID:19dc7741d3d7492486b67e3711a11aea
CATEGORIES:arviointi
CATEGORIES:kehittäminen
CATEGORIES:koulutus
CATEGORIES:varhaiskasvatus
CATEGORIES:esiopetus
CATEGORIES:perusopetus
CATEGORIES:ammatillinen koulutus
CATEGORIES:korkeakoulutus
CATEGORIES:vapaa sivistystyö
CONTACT:https://karvi.fi/event/arviointifoorumi/
CREATED;VALUE=DATE-TIME:20180525T103708Z
LAST-MODIFIED;VALUE=DATE-TIME:20250618T074426Z
LOCATION:Helsinki
URL:https://www.kieliverkosto.fi/fi/kuulumisia-kentalta/tapahtumat/karvin-
 arviointifoorumi-25-5.2018
END:VEVENT
BEGIN:VTIMEZONE
TZID:Europe/Helsinki
X-LIC-LOCATION:Europe/Helsinki
BEGIN:DAYLIGHT
DTSTART;VALUE=DATE-TIME:20180325T040000
TZNAME:EEST
TZOFFSETFROM:+0200
TZOFFSETTO:+0300
END:DAYLIGHT
END:VTIMEZONE
END:VCALENDAR
