BEGIN:VCALENDAR
VERSION:2.0
PRODID:-//Plone.org//NONSGML plone.app.event//EN
X-WR-TIMEZONE:Europe/Helsinki
BEGIN:VEVENT
SUMMARY:Save the date 29.10.2021: Slutseminarium: Språköverskridande ped
 agogik – erfarenheter och visioner // Loppuseminaari: Kielirajat ylittä
 vä pedagogiikka – kokemuksia ja visioita
DTSTART;TZID=Europe/Helsinki;VALUE=DATE-TIME:20211029T100000
DTEND;TZID=Europe/Helsinki;VALUE=DATE-TIME:20211029T163000
DTSTAMP;VALUE=DATE-TIME:20260426T073043Z
UID:4d70b07816cf4c278c7064811da27e91
CATEGORIES:1ruotsi
CREATED;VALUE=DATE-TIME:20210618T100221Z
LAST-MODIFIED;VALUE=DATE-TIME:20250618T074423Z
URL:https://www.kieliverkosto.fi/fi/kuulumisia-kentalta/tapahtumat/save-th
 e-date-29-10-2021-slutseminarium-sprakoverskridande-pedagogik-2013-erfaren
 heter-och-visioner-loppuseminaari-kielirajat-ylittava-pedagogiikka-2013-ko
 kemuksia-ja-visioita
END:VEVENT
BEGIN:VTIMEZONE
TZID:Europe/Helsinki
X-LIC-LOCATION:Europe/Helsinki
BEGIN:DAYLIGHT
DTSTART;VALUE=DATE-TIME:20210328T040000
TZNAME:EEST
TZOFFSETFROM:+0200
TZOFFSETTO:+0300
END:DAYLIGHT
END:VTIMEZONE
END:VCALENDAR
